Workbook

Sheet Corrected 2024 scenarios
C1: 2024 without insurance claims nor recycling centre costs (assumes usual electricity sales) | F1: 2024 + without special handling | I1: 2024 + with budgetted debt servicing | L1: 2024 + if had new Veolia contract
A2: Category | B2: MV numbers | C2: total tonnes | D2: garbage only tonnes | E2: Costs | F2: total tonnes | G2: garbage only tonnes | H2: Costs | I2: total tonnes | J2: garbage only tonnes | K2: Costs | L2: total tonnes | M2: garbage only tonnes | N2: Costs
A3: INBOUND GARBAGE | O3: Note grey is unedited
A4: Recycling and Waste Centres -direct haul | C4: 710999 | D4: 648005.01 | E4: =C4-D4 -> 62993.987 | F4: 710999 | G4: 648005.01 | H4: =F4-G4 -> 62993.987 | I4: 710999 | J4: 648005.01 | K4: =I4-J4 -> 62993.987 | L4: 710999 | M4: 648005.01 | N4: =L4-M4 -> 62993.987
A5: Metro to WTEF garbage only -direct haul | C5: 140705 | D5: 140704.85 | F5: 140705 | G5: 140704.85 | I5: 140705 | J5: 140704.85 | L5: 140705 | M5: 140704.85
A6: total Metro garbage | D6: =SUM(D4:D5) -> 788709.86 | G6: =SUM(G4:G5) -> 788709.86 | J6: =SUM(J4:J5) -> 788709.86 | M6: =SUM(M4:M5) -> 788709.86
A7: Other material to WTEF inc special waste -direct haul | D7: 18268.293 | G7: 18268.293 | J7: 18268.293 | M7: 18268.293
A8: total to WTEF | D8: =D7+D5 -> 158973.14 | G8: =G7+G5 -> 158973.14 | J8: =J7+J5 -> 158973.14 | M8: =M7+M5 -> 158973.14
A9: total Metro garbage | D9: =D6+D7 -> 806978.15 | G9: =G6+G7 -> 806978.15 | J9: =J6+J7 -> 806978.15 | M9: =M6+M7 -> 806978.15
A10: Metro to VSTS to VLF garbage only -direct haul | D10: 42701.83 | G10: 42701.83 | J10: 42701.83 | M10: 42701.83
A11: Metro to VLF garbage only -direct haul | D11: 61133.59 | G11: 61133.59 | J11: 61133.59 | M11: 61133.59
A12: total Metro to VSTS and VLF | D12: =D11+D10 -> 103835.42 | G12: =G11+G10 -> 103835.42 | J12: =J11+J10 -> 103835.42 | M12: =M11+M10 -> 103835.42
A13: total Metro garbage | D13: =D9+D12 -> 910813.57 | G13: =G9+G12 -> 910813.57 | J13: =J9+J12 -> 910813.57 | M13: =M9+M12 -> 910813.57
A14: Vancouver/Delta (VSTS) Garbage only -direct haul | D14: 97311.719 | G14: 97311.719 | J14: 97311.719 | M14: 97311.719
A15: Vancouver/Delta (VLF) Garbage only | D15: 59384.96 | G15: 59384.96 | J15: 59384.96 | M15: 59384.96
A16: total VLF/VSTS garbage | D16: =SUM(D14:D15) -> 156696.68 | G16: =SUM(G14:G15) -> 156696.68 | J16: =SUM(J14:J15) -> 156696.68 | M16: =SUM(M14:M15) -> 156696.68
A17: VLF Other (btm ash, demo, residuals) -direct haul | D17: 67005.671 | G17: 67005.671 | J17: 67005.671 | M17: 67005.671
A18: total VLF/VSTS garbage inc lines 9, 10) | D18: =D15+D14+D10+D11 -> 260532.1 | G18: =G15+G14+G10+G11 -> 260532.1 | J18: =J15+J14+J10+J11 -> 260532.1 | M18: =M15+M14+M10+M11 -> 260532.1
A19: total regional waste garbage -direct haul | C19: =D19+E4 -> 1197509.9 | D19: =+D13+D16+D17 -> 1134515.9 | E19: =E4 -> 62993.987 | F19: =G19+H4 -> 1197509.9 | G19: =+G13+G16+G17 -> 1134515.9 | H19: =H4 -> 62993.987 | I19: =J19+K4 -> 1197509.9 | J19: =+J13+J16+J17 -> 1134515.9 | K19: =K4 -> 62993.987 | L19: =M19+N4 -> 1197509.9 | M19: =+M13+M16+M17 -> 1134515.9 | N19: =N4 -> 62993.987
A22: OUTBOUND -Garbage only
A23: Vancouver Landfill
A24: Metro direct haul + VSTS | D24: =D10 -> 42701.83 | G24: =G10 -> 42701.83 | J24: =J10 -> 42701.83 | M24: =M10 -> 42701.83
A25: Metro VLF direct haul | D25: =D11 -> 61133.59 | G25: =G11 -> 61133.59 | J25: =J11 -> 61133.59 | M25: =M11 -> 61133.59
A26: Metro VLF transfer, garbage only | D26: 405659.63 | G26: 405659.63 | J26: 405659.63 | M26: 405659.63
A27: total Metro Garbage only waste, direct haul VSTS/VLF + VLF transfer | D27: =SUM(D24:D26) -> 509495.05 | G27: =SUM(G24:G26) -> 509495.05 | J27: =SUM(J24:J26) -> 509495.05 | M27: =SUM(M24:M26) -> 509495.05
A28: Delta/Van -direct haul VLF + VSTS | D28: =D16 -> 156696.68 | G28: =G16 -> 156696.68 | J28: =J16 -> 156696.68 | M28: =M16 -> 156696.68
A29: total VLF garbage only | D29: =D27+D28 -> 666191.72 | G29: =G27+G28 -> 666191.72 | J29: =J27+J28 -> 666191.72 | M29: =M27+M28 -> 666191.72
A30: VLF Other (btm ash, demo, residuals) | D30: =D17 -> 67005.671 | G30: =G17 -> 67005.671 | J30: =J17 -> 67005.671 | M30: =M17 -> 67005.671
A31: total VLF | D31: =D29+D30 -> 733197.4 | G31: =G29+G30 -> 733197.4 | J31: =J29+J30 -> 733197.4 | M31: =M29+M30 -> 733197.4
A32: Waste to Energy Facility
A33: Direct haul garbage only | D33: 140704.85 | G33: 140704.85 | J33: 140704.85 | M33: 140704.85
A34: Metro Recycling and Waste Centres Transfer | D34: 84195.767 | G34: 84195.767 | J34: 84195.767 | M34: 84195.767
A35: total | D35: =D34+D33 -> 224900.61 | G35: =G34+G33 -> 224900.61 | J35: =J34+J33 -> 224900.61 | M35: =M34+M33 -> 224900.61
A36: Direct haul other inc special waste | D36: =D7 -> 18268.293 | G36: =G7 -> 18268.293 | J36: =J7 -> 18268.293 | M36: =M7 -> 18268.293
A37: total WTEF | D37: =D36+D34+D33 -> 243168.91 | G37: =G36+G34+G33 -> 243168.91 | J37: =J36+J34+J33 -> 243168.91 | M37: =M36+M34+M33 -> 243168.91
A39: Hauling to contingency cost (from R&WCs)
A40: CAMP | D40: 80718.506 | G40: 80718.506 | J40: 80718.506 | M40: 80718.506
A41: SEAIY | D41: 12246.371 | G41: 12246.371 | J41: 12246.371 | M41: 12246.371
A42: SUNRLF | D42: 58574.391 | G42: 58574.391 | J42: 58574.391 | M42: 58574.391
A43: Total Contingency | D43: =SUM(D40:D42) -> 151539.27 | G43: =SUM(G40:G42) -> 151539.27 | J43: =SUM(J40:J42) -> 151539.27 | M43: =SUM(M40:M42) -> 151539.27
...

Sheet MV provided # in FOI
A1: Note several cells have formulas added and the calculated numbers are slightly different than in MV pdf document as actual spreadsheet not provided but close enough to reflect formulas | B1: 2024 | F1: 2023 | I1: 2021
A2: Category | B2: total tonnes | C2: garbage only tonnes | D2: Costs | E2: Budget | F2: total tonnes | G2: garbage only tonnes | H2: Costs | I2: total tonnes | J2: garbage only tonnes | K2: Costs
A3: INBOUND GARBAGE | D3: resource recovery tonnes
A4: Recycling and Waste Centres -direct haul | B4: 710999 | C4: 648005.01 | D4: =B4-C4 -> 62993.987
A5: Metro to WTEF garbage only -direct haul | B5: 140705 | C5: 140704.85
A6: total Metro garbage | C6: =SUM(C4:C5) -> 788709.86
A7: Other material to WTEF inc special waste -direct haul | C7: 18268.293
A8: total to WTEF | C8: =C7+C5 -> 158973.14
A9: total Metro garbage | C9: =C6+C7 -> 806978.15
A10: Metro to VSTS to VLF garbage only -direct haul | C10: 42701.83
A11: Metro to VLF garbage only -direct haul | C11: 61133.59
A12: total Metro to VSTS and VLF | C12: =C11+C10 -> 103835.42
A13: total Metro garbage | C13: =C9+C12 -> 910813.57
A14: Vancouver/Delta (VSTS) Garbage only -direct haul | C14: 97311.719
A15: Vancouver/Delta (VLF) Garbage only | C15: 59384.96
A16: total VLF/VSTS garbage | C16: =SUM(C14:C15) -> 156696.68
A17: VLF Other (btm ash, demo, residuals) -direct haul | C17: 67005.671
A18: total VLF/VSTS garbage inc lines 9, 10) | C18: =C15+C14+C10+C11 -> 260532.1
A19: total regional waste garbage -direct haul | B19: =C19+D4 -> 1197509.9 | C19: =+C13+C16+C17 -> 1134515.9 | D19: =D4 -> 62993.987
A22: OUTBOUND -Garbage only
A23: Vancouver Landfill
A24: Metro direct haul + VSTS | C24: =C10 -> 42701.83
A25: Metro VLF direct haul | C25: =C11 -> 61133.59
A26: Metro VLF transfer, garbage only | C26: 405659.63
A27: total Metro Garbage only waste, direct haul VSTS/VLF + VLF transfer | C27: =SUM(C24:C26) -> 509495.05
A28: Delta/Van -direct haul VLF + VSTS | C28: =C16 -> 156696.68
A29: total VLF garbage only | C29: =C27+C28 -> 666191.72
A30: VLF Other (btm ash, demo, residuals) | C30: =C17 -> 67005.671
A31: total VLF | C31: =C29+C30 -> 733197.4
A32: Waste to Energy Facility
A33: Direct haul garbage only | C33: 140704.85
A34: Metro Recycling and Waste Centres Transfer | C34: 84195.767
A35: total | C35: =C34+C33 -> 224900.61
A36: Direct haul other inc special waste | C36: =C7 -> 18268.293
A37: total WTEF | C37: =C36+C34+C33 -> 243168.91
A39: Hauling to contingency cost (from R&WCs)
A40: CAMP | C40: 80718.506
A41: SEAIY | C41: 12246.371
A42: SUNRLF | C42: 58574.391
A43: Total Contingency | C43: =SUM(C40:C42) -> 151539.27
...
